BEGIN:VCALENDAR
VERSION:2.0
PRODID:-//Eventin//Event Calendar//EN
CALSCALE:GREGORIAN
METHOD:PUBLISH
BEGIN:VEVENT
UID:7525bcf09022d2234b67035e74be9966@letawaken.ajepcom.it
SUMMARY:(Demo) Annual Tech Innovators Conference
DESCRIPTION:The Tech Innovators Conference brings together developers\, ent
 repreneurs\, and investors to explore cutting-edge innovations in AI\, bloc
 kchain\, and software development. Engage in keynote sessions\, panel discu
 ssions\, and networking opportunities across three impactful days.
LOCATION:New York
DTSTAMP:20260419T233522Z
DTSTART:20260505T180000Z
DTEND:20260516T175500Z
END:VEVENT
END:VCALENDAR
