BEGIN:VCALENDAR
VERSION:2.0
PRODID:-//Eventin//Event Calendar//EN
CALSCALE:GREGORIAN
METHOD:PUBLISH
BEGIN:VEVENT
UID:1a2f6026a1f3b1122b7246cd8d40e290@letawaken.ajepcom.it
SUMMARY:Recurring Event Test
DESCRIPTION:This is the event description.
LOCATION:Rome\, Italia
DTSTAMP:20260420T033538Z
DTSTART:20260407T110000Z
DTEND:20260426T213000Z
END:VEVENT
END:VCALENDAR
