BEGIN:VCALENDAR
VERSION:2.0
PRODID:-//Eventin//Event Calendar//EN
CALSCALE:GREGORIAN
METHOD:PUBLISH
BEGIN:VEVENT
UID:fd262ee89035e17ec8a6c8ae4022dabd@letawaken.ajepcom.it
SUMMARY:Recurring Event Test
DESCRIPTION:This is the event description.
LOCATION:Rome\, Italia
DTSTAMP:20260420T033633Z
DTSTART:20260408T110000Z
DTEND:20260427T213000Z
END:VEVENT
END:VCALENDAR
