BEGIN:VCALENDAR
VERSION:2.0
PRODID:-//Eventin//Event Calendar//EN
CALSCALE:GREGORIAN
METHOD:PUBLISH
BEGIN:VEVENT
UID:6f03b1fc0d69c9c65341b4acb2480942@letawaken.ajepcom.it
SUMMARY:Recurring Event Test
DESCRIPTION:This is the event description.
LOCATION:Rome\, Italia
DTSTAMP:20260420T033610Z
DTSTART:20260409T110000Z
DTEND:20260428T213000Z
END:VEVENT
END:VCALENDAR
