BEGIN:VCALENDAR
VERSION:2.0
PRODID:-//Eventin//Event Calendar//EN
CALSCALE:GREGORIAN
METHOD:PUBLISH
BEGIN:VEVENT
UID:6abb83cf1694f77b8b8f88a494b22e06@letawaken.ajepcom.it
SUMMARY:Recurring Event Test
DESCRIPTION:This is the event description.
LOCATION:Rome\, Italia
DTSTAMP:20260420T033539Z
DTSTART:20260410T110000Z
DTEND:20260429T213000Z
END:VEVENT
END:VCALENDAR
