BEGIN:VCALENDAR
VERSION:2.0
PRODID:-//Eventin//Event Calendar//EN
CALSCALE:GREGORIAN
METHOD:PUBLISH
BEGIN:VEVENT
UID:4f26ec9ac5e4b9750b0a4eb55d7bfef0@letawaken.ajepcom.it
SUMMARY:Recurring Event Test
DESCRIPTION:This is the event description.
LOCATION:Rome\, Italia
DTSTAMP:20260420T033835Z
DTSTART:20260411T110000Z
DTEND:20260430T213000Z
END:VEVENT
END:VCALENDAR
