BEGIN:VCALENDAR
VERSION:2.0
PRODID:-//Eventin//Event Calendar//EN
CALSCALE:GREGORIAN
METHOD:PUBLISH
BEGIN:VEVENT
UID:15d736643531efb4d8ab59d66cdb2f94@letawaken.ajepcom.it
SUMMARY:Recurring Event Test
DESCRIPTION:This is the event description.
LOCATION:Rome\, Italia
DTSTAMP:20260420T033609Z
DTSTART:20260413T110000Z
DTEND:20260502T213000Z
END:VEVENT
END:VCALENDAR
