BEGIN:VCALENDAR
VERSION:2.0
PRODID:-//Eventin//Event Calendar//EN
CALSCALE:GREGORIAN
METHOD:PUBLISH
BEGIN:VEVENT
UID:1edc08b80d913034aff73105a9dd7bc4@letawaken.ajepcom.it
SUMMARY:Recurring Event Test
DESCRIPTION:This is the event description.
LOCATION:Rome\, Italia
DTSTAMP:20260420T033836Z
DTSTART:20260417T110000Z
DTEND:20260506T213000Z
END:VEVENT
END:VCALENDAR
