BEGIN:VCALENDAR
VERSION:2.0
PRODID:-//Eventin//Event Calendar//EN
CALSCALE:GREGORIAN
METHOD:PUBLISH
BEGIN:VEVENT
UID:aaee008ef0b5feee6091c51cd9d129b3@letawaken.ajepcom.it
SUMMARY:Recurring Event Test
DESCRIPTION:This is the event description.
LOCATION:Rome\, Italia
DTSTAMP:20260420T033427Z
DTSTART:20260420T110000Z
DTEND:20260509T213000Z
END:VEVENT
END:VCALENDAR
