BEGIN:VCALENDAR
VERSION:2.0
PRODID:-//Eventin//Event Calendar//EN
CALSCALE:GREGORIAN
METHOD:PUBLISH
BEGIN:VEVENT
UID:8870dc857b6fdcb909f32905c34f0a60@letawaken.ajepcom.it
SUMMARY:Recurring Event Test
DESCRIPTION:This is the event description.
LOCATION:Rome\, Italia
DTSTAMP:20260420T033428Z
DTSTART:20260421T110000Z
DTEND:20260510T213000Z
END:VEVENT
END:VCALENDAR
