BEGIN:VCALENDAR
VERSION:2.0
PRODID:-//Eventin//Event Calendar//EN
CALSCALE:GREGORIAN
METHOD:PUBLISH
BEGIN:VEVENT
UID:2d76227bde9e052651b6b2fb6fe37bd2@letawaken.ajepcom.it
SUMMARY:Recurring Event Test
DESCRIPTION:This is the event description.
LOCATION:Rome\, Italia
DTSTAMP:20260420T033537Z
DTSTART:20260423T110000Z
DTEND:20260512T213000Z
END:VEVENT
END:VCALENDAR
