BEGIN:VCALENDAR
VERSION:2.0
PRODID:-//Eventin//Event Calendar//EN
CALSCALE:GREGORIAN
METHOD:PUBLISH
BEGIN:VEVENT
UID:606dbae9ec1db110565ac8f76ad252ea@letawaken.ajepcom.it
SUMMARY:Recurring Event Test
DESCRIPTION:This is the event description.
LOCATION:Rome\, Italia
DTSTAMP:20260420T033632Z
DTSTART:20260424T110000Z
DTEND:20260513T213000Z
END:VEVENT
END:VCALENDAR
