BEGIN:VCALENDAR
VERSION:2.0
PRODID:-//Eventin//Event Calendar//EN
CALSCALE:GREGORIAN
METHOD:PUBLISH
BEGIN:VEVENT
UID:17fb710a5a19f9bf629b4c91f5f18362@letawaken.ajepcom.it
SUMMARY:Recurring Event Test
DESCRIPTION:This is the event description.
LOCATION:Rome\, Italia
DTSTAMP:20260420T033417Z
DTSTART:20260427T110000Z
DTEND:20260516T213000Z
END:VEVENT
END:VCALENDAR
