BEGIN:VCALENDAR
VERSION:2.0
PRODID:-//Eventin//Event Calendar//EN
CALSCALE:GREGORIAN
METHOD:PUBLISH
BEGIN:VEVENT
UID:9f6e40c88104279dec589f4853ced609@letawaken.ajepcom.it
SUMMARY:Recurring Event Test
DESCRIPTION:This is the event description.
LOCATION:Rome\, Italia
DTSTAMP:20260420T033835Z
DTSTART:20260430T110000Z
DTEND:20260519T213000Z
END:VEVENT
END:VCALENDAR
