BEGIN:VCALENDAR
VERSION:2.0
PRODID:-//Eventin//Event Calendar//EN
CALSCALE:GREGORIAN
METHOD:PUBLISH
BEGIN:VEVENT
UID:55b4aede67abe05d50fcaceb15af4b8a@letawaken.ajepcom.it
SUMMARY:Recurring Event Test
DESCRIPTION:This is the event description.
LOCATION:Rome\, Italia
DTSTAMP:20260420T033427Z
DTSTART:20260504T110000Z
DTEND:20260523T213000Z
END:VEVENT
END:VCALENDAR
