BEGIN:VCALENDAR
VERSION:2.0
PRODID:-//Eventin//Event Calendar//EN
CALSCALE:GREGORIAN
METHOD:PUBLISH
BEGIN:VEVENT
UID:dfee21899b0d50a112a48c060a400441@letawaken.ajepcom.it
SUMMARY:Recurring Event Test
DESCRIPTION:This is the event description.
LOCATION:Rome\, Italia
DTSTAMP:20260420T032131Z
DTSTART:20260511T110000Z
DTEND:20260530T213000Z
END:VEVENT
END:VCALENDAR
