BEGIN:VCALENDAR
VERSION:2.0
PRODID:-//Eventin//Event Calendar//EN
CALSCALE:GREGORIAN
METHOD:PUBLISH
BEGIN:VEVENT
UID:d6e891c4918556a81c0f9e700492fe3f@letawaken.ajepcom.it
SUMMARY:Recurring Event Test
DESCRIPTION:This is the event description.
LOCATION:Rome\, Italia
DTSTAMP:20260420T032310Z
DTSTART:20260518T110000Z
DTEND:20260606T213000Z
END:VEVENT
END:VCALENDAR
