BEGIN:VCALENDAR
VERSION:2.0
PRODID:-//Eventin//Event Calendar//EN
CALSCALE:GREGORIAN
METHOD:PUBLISH
BEGIN:VEVENT
UID:4b99c40214a9135c24a81a4bbe7c1921@letawaken.ajepcom.it
SUMMARY:Recurring Event Test
DESCRIPTION:This is the event description.
LOCATION:Rome\, Italia
DTSTAMP:20260419T233521Z
DTSTART:20260525T110000Z
DTEND:20260613T213000Z
END:VEVENT
END:VCALENDAR
