BEGIN:VCALENDAR
VERSION:2.0
PRODID:-//Eventin//Event Calendar//EN
CALSCALE:GREGORIAN
METHOD:PUBLISH
BEGIN:VEVENT
UID:c71645261605c218d967f7a1519d6d44@letawaken.ajepcom.it
SUMMARY:Full Moon Paddle Surf\, Microdosing &#038\; Cacao Ceremony
DESCRIPTION:About the event\n\n\n\nJoin us for an enchanting evening under 
 the full moon at Sea You Barcelona\, where adventure and serenity blend sea
 mlessly. On Sunday night from 9 PM to 12 PM\, we invite you to a unique pad
 dle surfing experience on the tranquil waters of Barcelona Beach\, illumina
 ted by the soft glow of the full moon.\n \nWhat to Expect:\n\n\nPaddle Sur
 fing by Moonlight: Embark on a guided paddle surf excursion as the full moo
 n casts its magical light across the Mediterranean. Whether you're a season
 ed paddler or a beginner\, our experienced instructors will ensure you feel
  confident and connected to the rhythm of the ocean.\n\n\nGlow In The Dark 
 Make Up: Add a splash of color to the night with glow in the dark makeup! B
 efore hitting the water\, enjoy a fun and creative session where you can ad
 orn yourself with vibrant\, luminescent designs. \n\n\nCacao Ceremony: Fol
 lowing our paddle surf adventure\, gather on the beach for a heart-opening 
 cacao ceremony. Savor the rich\, ceremonial-grade cacao as you connect with
  yourself and others in a sacred circle. This ancient ritual invites you to
  embrace the nourishing energy of cacao and the full moon's illuminating pr
 esence.\n\n\nMicrodosing Experience: Enhance your connection to nature and 
 the present moment with a mindful microdosing experience. Designed to eleva
 te your senses during our cacao ceremony\, this subtle practice promotes a 
 heightened state of awareness and tranquility.\n\n\n \nWhat to Bring: Comf
 ortable swimwear\, a towel\, and an open heart\n \nImmerse yourself in an 
 evening of mystical wonder\, community\, and personal discovery. Spaces are
  limited\, so reserve your spot today and prepare for a night of paddle sur
 fing\, microdosing\, and sacred cacao under the Barcelona moonlight.
LOCATION:SEA YOU Paddle Surf School\, Passeig del Mare Nostrum\, Barcelona\
 , España
DTSTAMP:20260420T014544Z
DTSTART:20260827T190000Z
DTEND:20260827T215500Z
END:VEVENT
END:VCALENDAR
