BEGIN:VCALENDAR
VERSION:2.0
PRODID:-//Eventin//Event Calendar//EN
CALSCALE:GREGORIAN
METHOD:PUBLISH
BEGIN:VEVENT
UID:7f4410f682974a0f7553c53b49c869df@letawaken.ajepcom.it
SUMMARY:New Moon Ecstatic Dance
DESCRIPTION:Description
LOCATION:YogaOne Aragó/Eixample\, Carrer d'Aragó\, Barcelona\, Spain
DTSTAMP:20260420T014457Z
DTSTART:20260423T180000Z
DTEND:20260423T200000Z
END:VEVENT
END:VCALENDAR
